BEGIN:VCALENDAR
VERSION:2.0
PRODID:-//ChamberMaster//Event Calendar 2.0//EN
METHOD:PUBLISH
X-PUBLISHED-TTL:P1H
REFRESH-INTERVAL:P1H
CALSCALE:GREGORIAN
BEGIN:VTIMEZONE
TZID:America/New_York
BEGIN:DAYLIGHT
RRULE:FREQ=YEARLY;BYMONTH=3;BYDAY=2SU
DTSTART:20070101T000000
TZOFFSETFROM:-0500
TZOFFSETTO:-0400
TZNAME:Eastern Daylight Time
END:DAYLIGHT
BEGIN:STANDARD
RRULE:FREQ=YEARLY;BYMONTH=11;BYDAY=1SU
DTSTART:20070101T000000
TZOFFSETFROM:-0400
TZOFFSETTO:-0500
TZNAME:Eastern Standard Time
END:STANDARD
END:VTIMEZONE
BEGIN:VEVENT
DTSTART;TZID=America/New_York:20260521T173000
DTEND;TZID=America/New_York:20260521T200000
X-MICROSOFT-CDO-ALLDAYEVENT:FALSE
SUMMARY:Member Mixer
DESCRIPTION:Back by popular demand\, the BAEC along with member Springer Design is hosting the May Membership Mixer on the river at the trendy Brass Elk Brewery! We are offering a fabulously fun evening outside by the Elkhart River (it's covered in case of rain) with small plates and a big cash bar! It is a great time to sip\, mix\, mingle\, and munch! Horizon Bank is providing a door prize (no purchase necessary)\, and there'll be a 50/50 drawing - so bring a few extra bucks. Sign up soon - space is limited! $40 per person. 5:30-8 p.m.
X-ALT-DESC;FMTTYPE=text/html:<!DOCTYPE html><html><head><title></title></head><body aria-disabled="false" spellcheck="false"><p>Back by popular demand\, the BAEC along with member Springer Design is hosting the May Membership Mixer on the river at the trendy Brass Elk Brewery! We are offering a fabulously fun evening outside by the Elkhart River (it&#39\;s covered in case of rain) with small plates and a big cash bar! It is a great time to sip\, mix\, mingle\, and munch! Horizon Bank is providing a door prize (no purchase necessary)\, and there&#39\;ll be a 50/50 drawing - so bring a few extra bucks. Sign up soon - space is limited! $40 per person. 5:30-8 p.m.</p></body></html>
LOCATION:333 Nibco Parkway Elkhart 46516
UID:e.4211.1442965
SEQUENCE:3
DTSTAMP:20260422T060455Z
URL:https://members.baec.com/committeecalendar/Details/member-mixer-1709054?sourceTypeId=Hub
END:VEVENT
END:VCALENDAR
